BEGIN:VCALENDAR
VERSION:2.0
PRODID:-//RI Humanities - ECPv5.5.0.1//NONSGML v1.0//EN
CALSCALE:GREGORIAN
METHOD:PUBLISH
X-WR-CALNAME:RI Humanities
X-ORIGINAL-URL:https://rihumanities.org
X-WR-CALDESC:Events for RI Humanities
BEGIN:VTIMEZONE
TZID:America/New_York
BEGIN:DAYLIGHT
TZOFFSETFROM:-0500
TZOFFSETTO:-0400
TZNAME:EDT
DTSTART:20210314T070000
END:DAYLIGHT
BEGIN:STANDARD
TZOFFSETFROM:-0400
TZOFFSETTO:-0500
TZNAME:EST
DTSTART:20211107T060000
END:STANDARD
END:VTIMEZONE
BEGIN:VEVENT
DTSTART;TZID=America/New_York:20210409T080000
DTEND;TZID=America/New_York:20210409T170000
DTSTAMP:20210627T174132
CREATED:20210222T171620Z
LAST-MODIFIED:20210304T192504Z
UID:9967-1617955200-1617987600@rihumanities.org
SUMMARY:RI PBS - Request for Proposal: Responding to the COVID-19 Pandemic
DESCRIPTION:This is a funding opportunity for independent producers from Rhode Island PBS. Read on for details and submission information. The submission deadline is March 8\, 2021. \n\nRequest for Proposal: Responding to the COVID-19 Pandemic\nFebruary 8\, 2021\nIssued by: WSBE Rhode Island PBS\nRhode Island PBS Contact: Lori Sullivan\, Director of Content\nlsullivan@ripbs.org\n(401) 222-3636 x337 \nIntroduction\nTwenty-twenty was certainly a year that has left an indelible mark on all of us. A year that altered plans\, ruined lives and for far too many ended their journey. It has caused all of us to rethink how we run our businesses\, interact socially and at the very basic level\, how we live our lives. With all the bad that has happened in the past ten/eleven months\, there is certainly a lot of good out there also. This is where you come in. Rhode Island PBS is asking for proposals from independent producers to develop and produce short films 3 – 5 minutes in duration with the subject being the COVID-19 pandemic. These films will be broadcast on the channels of Rhode Island PBS and their digital media outlets. \nBackground\nRhode Island PBS has a proud tradition of producing and presenting award-winning content that spans the interests of preschoolers to senior citizens\, staying true to our mission of engaging viewers of all ages since 1967. \nAs television\, we are Rhode Island’s most accessible learning resource. We are committed to the principle of lifelong learning\, and carry that message “beyond the box” into the community. With that commitment and our mission at our core\, our vision is to help build a better and stronger community. \nMuch of the success of Rhode Island PBS has been achieved through partnerships and\ncollaborations with key stakeholders and talented individuals in our community. We are now\nlooking to expand these relationships to highlight how 2020 has impacted us. \nProject\nWe are looking for the production of 3 – 5 minute short films which respond to the global pandemic. The subject can be of a personal response (i.e. the point of view of a health care professional\, small business owner or even a parent) or a community story that reflects on the pandemic from either a contemporary or historical perspective\, humor and of course\, creativity is encouraged. \nFunding Potential\nRecognizing the need for assistance with this project\, we are offering funding at the levels that\nfollow:\n– 3 films at $5\,000 each;\n– 3 student or recent graduate films at $3\,000 – plus a $1\,000 honorarium for any advisor who\nassists the student or graduate. \nHow to Apply\nSubmit a one to two-page proposal covering the following for your project to Lori Sullivan\,\nDirector of Content\, Rhode Island PBS\, 50 Park Lane\, Providence\, RI 02903\, (electronic\nsubmission via email preferred) lsullivan@ripbs.org. \n\nLogline – a brief\, one-sentence\, summary of your program\, that states the central conflict of the story\, a synopsis of the story’s plot\, and an emotional “hook” to stimulate interest.\nStory Summary – What is your story? Please provide an overview of your story\,\nintroducing the main character and any potential plots. Describe the anticipated story\nstructure and narrative trajectory. Discuss your access to the story and characters.\nSub-Topic Summary – Describe why this sub-topic to the COVID-19 pandemic is important and relevant. Explain why you are the best person to tell this story. Detail the sub- topics issues\, themes\, challenges\, stakes or questions that your project will cover. Explain any cultural or social connections if relevant.\nArtistic Approach – Describe your creative vision for the project – its visual look and feel. Explain your intended artistic approach that informs the storytelling.\nExpense Budget – Please provide your project’s projected total expenses.\nSample of your Work (encouraged) – Provide a sample of prior work\, including where it has screened\, to help strengthen your application.\n\nSelection Criteria\nYour application will be reviewed by a committee assembled by Rhode Island PBS and will be\njudged against your fellow applicants based on the following: \n\nFunding Criteria\n\nQuality of cinematic form and technique\nOriginality of filmmaker’s voice\, vision\, and point of view\nResonance and power of the film’s core idea or story\nFeasibility of production\n\n\n\nTimelines\nRFP Submission Deadline – March 8\, 2021 April 9\, 2021\nApplication Reviews Completed – March 12\, 2021 April 16\, 2021\nWinner Notifications – March 15\, 2021 April 16\, 2021\nProject delivery Date – April 23\, 2021 May 14\, 2021
URL:https://rihumanities.org/calendar/ri-pbs-request-for-proposal-responding-to-the-covid-19-pandemic/
LOCATION:RI\, United States
CATEGORIES:Community Events
ATTACH;FMTTYPE=image/png:https://rihumanities.org/wp-content/uploads/2021/02/72e5ead482_RhodeIslandPBS_WEB_640x360_2mid.png
END:VEVENT
BEGIN:VEVENT
DTSTART;TZID=America/New_York:20210409T170000
DTEND;TZID=America/New_York:20210409T180000
DTSTAMP:20210627T174132
CREATED:20210323T165040Z
LAST-MODIFIED:20210323T165040Z
UID:10101-1617987600-1617991200@rihumanities.org
SUMMARY:B/I/POC Creatives Happy Hour
DESCRIPTION:Rhode Island writers\, illustrators and podcasters of color are invited to What Cheer Writers Club’s B/I/POC Creatives Happy Hour online Fri\, April 9 from 5-6pm. Come share about your creative projects\, and how you are facing the unique challenges of creating and finding community as an artist of color in the age of Covid. The discussion will be moderated by Club Member LuzJennifer Martinez\, founder of the Diverse Voices of RI writing group.
URL:https://rihumanities.org/calendar/b-i-poc-creatives-happy-hour/
LOCATION:What Cheer Writers Club\, 160 Westminster St\, 2nd floor\, Providence\, RI\, 02903\, United States
CATEGORIES:Community Events
ATTACH;FMTTYPE=image/jpeg:https://rihumanities.org/wp-content/uploads/2021/03/Cheers.jpg
ORGANIZER;CN="What%20Cheer%20Writers%20Club":MAILTO:jodie@whatcheerclub.org
END:VEVENT
BEGIN:VEVENT
DTSTART;TZID=America/New_York:20210409T190000
DTEND;TZID=America/New_York:20210409T200000
DTSTAMP:20210627T174132
CREATED:20201223T182624Z
LAST-MODIFIED:20201223T182624Z
UID:9675-1617994800-1617998400@rihumanities.org
SUMMARY:Bill Harley - Live-stream Performance Series
DESCRIPTION:Join acclaimed storyteller Bill Harley for a series of live-streamed performances the second Friday of the month January – April\, 2021. Bill Harley is a two-time Grammy winner and recipient of the Humanities Council’s 2010 Lifetime Achievement in the Humanities Award. \n \nExpect the unexpected in this series of live-streamed performances – three shows for families and one for adults. Stories and songs\, old and new\, ridiculous and moving. Each show’s got a different theme\, and will include some filmed bits and live input from the audience (that’s you). Free downloads of Bill’s stuff included if you go for the whole enchilada! \nShows:\n\nFriday\, January 8\, 2021 – 7:00 PM EST\n\nTrouble: If there’s no trouble\, there’s no story – and in this family show Bill’s got a lot of stories to tell and songs to sing – about getting in and out of trouble. Some of Bill’s classic work\, along with some new pieces of mayhem and bedlam.\n\n\n\n\nFriday\, February 12\, 2021 – 7:00 PM EST\n\nBill celebrates the release of his new adult recording\, “Walking Each Other Home”\, featuring a selection of songs from the new recording\, along with some of his favorite songs and stories from a lifetime of work. Joining Bill will be his sons\, Noah and Dylan\, excellent songwriters and musicians in their own right. Purchase of the ticket gets you a free download of the new recording.\n\n\n\n\nFriday\, March 12\, 2021 – 7:00 PM EST\n\nBrothers and Sisters: Want something timeless? How about siblings  – the squabbles and the conspiracies are the stuff of legend\, and also hilarity. Bill takes you on a tour – along with input from the audience.\n\n\n\n\nFriday\, April 9\, 2021 – 7:00 PM EST\n\nSchool!?#!?: Some things never change\, and one of them is the attempt to teach children in large institutional settings. Mayhem is inevitable\, and nobody presents it better than Bill in his stories and songs. Some old favorites and brand new catastrophes.\n\n\n\nClick here to purchase tickets. Price packages range from $5-$65.
URL:https://rihumanities.org/calendar/bill-harley-live-stream-concert-series/2021-04-09/
LOCATION:Online\, 160 Westminster Street\, FL 2\, Providence\, RI\, 02903
CATEGORIES:Community Events
ATTACH;FMTTYPE=image/jpeg:https://rihumanities.org/wp-content/uploads/2020/12/press-BHGSTT-print.jpg
END:VEVENT
BEGIN:VEVENT
DTSTART;TZID=America/New_York:20210409T193000
DTEND;TZID=America/New_York:20210409T203000
DTSTAMP:20210627T174132
CREATED:20210408T145808Z
LAST-MODIFIED:20210408T145808Z
UID:10243-1617996600-1618000200@rihumanities.org
SUMMARY:Invoice for Emotional Labor
DESCRIPTION:Invoice for Emotional Labor\, a new\, educational multimedia workshop performance presented by The Wilbury Theatre Group in collaboration with CCRI Players ​and Community College of Rhode Island. Written by Christopher Johnson\, Invoice for Emotional Labor explores contemporary terms and conversations around race and racism through performance and lecture\, and concludes with audience talk-backs and discussions. \nMore information and tickets for streaming available here: https://thewilburygroup.org/invoice.html \nAvailable for streaming:\nThursday\, April 8\, 2021 at 7:30 pm EST\nFriday\, April 9\, 2021 at 7:30 pm EST\nSaturday\, April 10\, 2021 at 5:30 pm EST \nThis project is supported in part by a mini grant from the Humanities Council.
URL:https://rihumanities.org/calendar/invoice-for-emotional-labor-3/
LOCATION:Virtual Event
CATEGORIES:Grantee Events
ATTACH;FMTTYPE=image/png:https://rihumanities.org/wp-content/uploads/2021/04/invoice-for-emotional-labor.png
ORGANIZER;CN="Wilbury%20Theatre%20Group":MAILTO:darcie@thewilburygroup.org
END:VEVENT
END:VCALENDAR