BEGIN:VCALENDAR
VERSION:2.0
PRODID:-//RI Humanities - ECPv5.5.0.1//NONSGML v1.0//EN
CALSCALE:GREGORIAN
METHOD:PUBLISH
X-WR-CALNAME:RI Humanities
X-ORIGINAL-URL:https://rihumanities.org
X-WR-CALDESC:Events for RI Humanities
BEGIN:VTIMEZONE
TZID:America/New_York
BEGIN:DAYLIGHT
TZOFFSETFROM:-0500
TZOFFSETTO:-0400
TZNAME:EDT
DTSTART:20210314T070000
END:DAYLIGHT
BEGIN:STANDARD
TZOFFSETFROM:-0400
TZOFFSETTO:-0500
TZNAME:EST
DTSTART:20211107T060000
END:STANDARD
END:VTIMEZONE
BEGIN:VEVENT
DTSTART;TZID=America/New_York:20210329T160000
DTEND;TZID=America/New_York:20210329T173000
DTSTAMP:20210627T174545
CREATED:20210311T153509Z
LAST-MODIFIED:20210311T153509Z
UID:10039-1617033600-1617039000@rihumanities.org
SUMMARY:This is America: Halfway Home: Race\, Punishment\, and the Afterlife of Mass Incarceration
DESCRIPTION:In this moment of deep crisis and social upheaval in our country\, the time is ripe to look closer at the reality facing our most vulnerable citizens. More than half a million Americans are released from prison every year\, and they join a population of twenty million people who live with a felony record. While a number of remarkable books have focused on America’s high incarceration rates and the reality of life in prison\, life for those who have paid their debt to society hasn’t been as well explored. In a vividly reported\, character-driven examination of the millions of formerly incarcerated Americans facing crushing odds of finding a home or a job\, author and former jail chaplain Reuben Jonathan Miller tells the story of life after incarceration. In HALFWAY HOME: Race\, Punishment\, and the Afterlife of Mass Incarceration\, Miller weaves together stories about criminal justice\, social justice\, poverty\, and race as he exposes the realities of parole\, the police\, and the millions of details that shape social life in the wake of a conviction.
URL:https://rihumanities.org/calendar/this-is-america-halfway-home-race-punishment-and-the-afterlife-of-mass-incarceration/
LOCATION:Virtual Event
CATEGORIES:Community Events
ATTACH;FMTTYPE=image/jpeg:https://rihumanities.org/wp-content/uploads/2021/03/halfwayhome.jpg
ORGANIZER;CN="Center%20for%20the%20Study%20of%20Slavery%20%26%20Justice":MAILTO:slaveryjustice@brown.edu
END:VEVENT
END:VCALENDAR